BEGIN:VCALENDAR
VERSION:2.0
PRODID:-//FSG Chardonne-Jongny - ECPv6.15.20//NONSGML v1.0//EN
CALSCALE:GREGORIAN
METHOD:PUBLISH
X-WR-CALNAME:FSG Chardonne-Jongny
X-ORIGINAL-URL:https://fsg-chardonne-jongny.ch
X-WR-CALDESC:Évènements pour FSG Chardonne-Jongny
REFRESH-INTERVAL;VALUE=DURATION:PT1H
X-Robots-Tag:noindex
X-PUBLISHED-TTL:PT1H
BEGIN:VTIMEZONE
TZID:Europe/Zurich
BEGIN:DAYLIGHT
TZOFFSETFROM:+0100
TZOFFSETTO:+0200
TZNAME:CEST
DTSTART:20230326T010000
END:DAYLIGHT
BEGIN:STANDARD
TZOFFSETFROM:+0200
TZOFFSETTO:+0100
TZNAME:CET
DTSTART:20231029T010000
END:STANDARD
BEGIN:DAYLIGHT
TZOFFSETFROM:+0100
TZOFFSETTO:+0200
TZNAME:CEST
DTSTART:20240331T010000
END:DAYLIGHT
BEGIN:STANDARD
TZOFFSETFROM:+0200
TZOFFSETTO:+0100
TZNAME:CET
DTSTART:20241027T010000
END:STANDARD
BEGIN:DAYLIGHT
TZOFFSETFROM:+0100
TZOFFSETTO:+0200
TZNAME:CEST
DTSTART:20250330T010000
END:DAYLIGHT
BEGIN:STANDARD
TZOFFSETFROM:+0200
TZOFFSETTO:+0100
TZNAME:CET
DTSTART:20251026T010000
END:STANDARD
END:VTIMEZONE
BEGIN:VEVENT
DTSTART;VALUE=DATE:20240504
DTEND;VALUE=DATE:20240506
DTSTAMP:20260424T182906
CREATED:20231022T183234Z
LAST-MODIFIED:20240501T143026Z
UID:3461-1714780800-1714953599@fsg-chardonne-jongny.ch
SUMMARY:Coupe des Bains 2024
DESCRIPTION:La Coupe des bains aura lieu les 4 et 5 mai 2024. Le samedi est consacré au concours en société adultes et le dimanche aux jeunesses. \nToutes les informations sur les horaires de passage seront transmis dans les groupes en début de saison de concours ainsi que ci-dessous : \n\nSamedi 04.05 : horaires actifs complets\n\nActifs : BP 8h20 (Salle des Iles 2)\nMéga : Sol 10h40 (Salle des Iles 3)\nActives : GYSE 11h58 (Léon-Michaud)\n\n\nDimanche 05.05 : horaires jeunesse complets\n\nMixte 2 : Sol 11h44 (salle des Iles 1-2)\nMixte 3 : Sol 13h55 (salle des Iles 1-2)\nActigym : GYSE 11h (Léon Michaud)\n\n\n\nRetrouvez toutes les informations pratiques sur le site de la manifestation.
URL:https://fsg-chardonne-jongny.ch/agenda/coupe-des-bains-2024/
LOCATION:Yverdon-les-Bains
ATTACH;FMTTYPE=image/jpeg:https://fsg-chardonne-jongny.ch/wp-content/uploads/2022/01/Logo_coupe_des_bains.jpg
END:VEVENT
BEGIN:VEVENT
DTSTART;TZID=Europe/Zurich:20240511T133000
DTEND;TZID=Europe/Zurich:20240511T235900
DTSTAMP:20260424T182906
CREATED:20240223T175025Z
LAST-MODIFIED:20240223T175025Z
UID:3741-1715434200-1715471940@fsg-chardonne-jongny.ch
SUMMARY:Sortie moniteurs
DESCRIPTION:La traditionnelle sortie des moniteurs et monitrices aura lieu le samedi 11 mai dès 13h30 !
URL:https://fsg-chardonne-jongny.ch/agenda/sortie-moniteurs/
LOCATION:A définir
ATTACH;FMTTYPE=image/png:https://fsg-chardonne-jongny.ch/wp-content/uploads/2021/11/logo-300.png
END:VEVENT
BEGIN:VEVENT
DTSTART;VALUE=DATE:20240525
DTEND;VALUE=DATE:20240527
DTSTAMP:20260424T182906
CREATED:20240107T133812Z
LAST-MODIFIED:20240524T121205Z
UID:3721-1716595200-1716767999@fsg-chardonne-jongny.ch
SUMMARY:Championnats vaudois de sociétés
DESCRIPTION:Venez soutenir le groupe du Méga-mixte lors des championnats vaudois de sociétés le samedi 25 mai 2024 à Avenches ! \nHoraires \n\nSamedi 25 mai : Méga-mixte – Sol 16h11\n\nToutes les infos de la manifestation sur leur site
URL:https://fsg-chardonne-jongny.ch/agenda/championnats-vaudois-de-societe/
LOCATION:Avenches
ATTACH;FMTTYPE=image/png:https://fsg-chardonne-jongny.ch/wp-content/uploads/2021/11/logo-300.png
END:VEVENT
END:VCALENDAR