BEGIN:VCALENDAR
VERSION:2.0
PRODID:-//FSG Chardonne-Jongny - ECPv6.15.20//NONSGML v1.0//EN
CALSCALE:GREGORIAN
METHOD:PUBLISH
X-ORIGINAL-URL:https://fsg-chardonne-jongny.ch
X-WR-CALDESC:Évènements pour FSG Chardonne-Jongny
REFRESH-INTERVAL;VALUE=DURATION:PT1H
X-Robots-Tag:noindex
X-PUBLISHED-TTL:PT1H
BEGIN:VTIMEZONE
TZID:Europe/Zurich
BEGIN:DAYLIGHT
TZOFFSETFROM:+0100
TZOFFSETTO:+0200
TZNAME:CEST
DTSTART:20230326T010000
END:DAYLIGHT
BEGIN:STANDARD
TZOFFSETFROM:+0200
TZOFFSETTO:+0100
TZNAME:CET
DTSTART:20231029T010000
END:STANDARD
BEGIN:DAYLIGHT
TZOFFSETFROM:+0100
TZOFFSETTO:+0200
TZNAME:CEST
DTSTART:20240331T010000
END:DAYLIGHT
BEGIN:STANDARD
TZOFFSETFROM:+0200
TZOFFSETTO:+0100
TZNAME:CET
DTSTART:20241027T010000
END:STANDARD
BEGIN:DAYLIGHT
TZOFFSETFROM:+0100
TZOFFSETTO:+0200
TZNAME:CEST
DTSTART:20250330T010000
END:DAYLIGHT
BEGIN:STANDARD
TZOFFSETFROM:+0200
TZOFFSETTO:+0100
TZNAME:CET
DTSTART:20251026T010000
END:STANDARD
END:VTIMEZONE
BEGIN:VEVENT
DTSTART;TZID=Europe/Zurich:20241108T190000
DTEND;TZID=Europe/Zurich:20241108T233000
DTSTAMP:20260424T150546
CREATED:20240818T163142Z
LAST-MODIFIED:20240818T163142Z
UID:3861-1731092400-1731108600@fsg-chardonne-jongny.ch
SUMMARY:Loto d'automne 2024
DESCRIPTION:Quine…Cartons! Notre traditionnel loto d’automne se tiendra le vendredi 8 novembre 2024 à la salle de gym de Jongny. Venez jouer pour soutenir notre Société ! \nOuverture des portes 19h\, début du loto 20h. Les abonnements seront prochainement en vente auprès des gymnastes.
URL:https://fsg-chardonne-jongny.ch/agenda/loto-dautomne-2024/
LOCATION:Salle polyvalente – Jongny
ATTACH;FMTTYPE=image/jpeg:https://fsg-chardonne-jongny.ch/wp-content/uploads/2022/01/Loto_©-Rudolf_Isaev.jpg
END:VEVENT
END:VCALENDAR